Package: PING Version: 2.46.0 Command: rm -rf PING.buildbin-libdir && mkdir PING.buildbin-libdir && /Users/biocbuild/BBS/utils/build-universal.sh PING_2.46.0.tar.gz /Library/Frameworks/R.framework/Resources/bin/R PING.buildbin-libdir StartedAt: 2024-04-16 12:25:37 -0400 (Tue, 16 Apr 2024) EndedAt: 2024-04-16 12:27:39 -0400 (Tue, 16 Apr 2024) EllapsedTime: 121.8 seconds RetCode: 0 Status: OK PackageFile: PING_2.46.0.tgz PackageFileSize: 5.613 MiB