Package: PING Version: 2.46.0 Command: /Library/Frameworks/R.framework/Resources/bin/R CMD INSTALL PING StartedAt: 2024-03-03 15:44:01 -0500 (Sun, 03 Mar 2024) EndedAt: 2024-03-03 15:45:21 -0500 (Sun, 03 Mar 2024) EllapsedTime: 80.4 seconds RetCode: 0 Status: OK