Package: PERFect Version: 1.16.0 Command: /Library/Frameworks/R.framework/Resources/bin/R CMD build --keep-empty-dirs --no-resave-data PERFect StartedAt: 2024-04-15 20:50:16 -0400 (Mon, 15 Apr 2024) EndedAt: 2024-04-15 20:59:59 -0400 (Mon, 15 Apr 2024) EllapsedTime: 582.9 seconds RetCode: 0 Status: OK PackageFile: PERFect_1.16.0.tar.gz PackageFileSize: 736 KiB