Package: PERFect Version: 1.16.0 Command: /Library/Frameworks/R.framework/Resources/bin/R CMD build --keep-empty-dirs --no-resave-data PERFect StartedAt: 2024-03-03 17:47:23 -0500 (Sun, 03 Mar 2024) EndedAt: 2024-03-03 17:54:42 -0500 (Sun, 03 Mar 2024) EllapsedTime: 439.3 seconds RetCode: 0 Status: OK PackageFile: PERFect_1.16.0.tar.gz PackageFileSize: 720.7 KiB