Package: PERFect Version: 1.16.0 Command: rm -rf PERFect.buildbin-libdir && mkdir PERFect.buildbin-libdir && /Users/biocbuild/BBS/utils/build-universal.sh PERFect_1.16.0.tar.gz /Library/Frameworks/R.framework/Resources/bin/R PERFect.buildbin-libdir StartedAt: 2024-03-04 00:55:52 -0500 (Mon, 04 Mar 2024) EndedAt: 2024-03-04 00:56:23 -0500 (Mon, 04 Mar 2024) EllapsedTime: 31.1 seconds RetCode: 0 Status: OK PackageFile: PERFect_1.16.0.tgz PackageFileSize: 786.7 KiB