Package: PCAtools Version: 2.14.0 Command: /home/biocbuild/bbs-3.18-bioc/R/bin/R CMD build --keep-empty-dirs --no-resave-data PCAtools StartedAt: 2024-04-15 18:29:50 -0400 (Mon, 15 Apr 2024) EndedAt: 2024-04-15 18:33:27 -0400 (Mon, 15 Apr 2024) EllapsedTime: 216.4 seconds RetCode: 0 Status: OK PackageFile: PCAtools_2.14.0.tar.gz PackageFileSize: 9.923 MiB