Package: PCAtools Version: 2.14.0 Command: /Library/Frameworks/R.framework/Resources/bin/R CMD INSTALL PCAtools StartedAt: 2024-04-15 16:24:18 -0400 (Mon, 15 Apr 2024) EndedAt: 2024-04-15 16:25:35 -0400 (Mon, 15 Apr 2024) EllapsedTime: 77.8 seconds RetCode: 0 Status: OK