Package: PCAtools Version: 2.14.0 Command: rm -rf PCAtools.buildbin-libdir && mkdir PCAtools.buildbin-libdir && /Users/biocbuild/BBS/utils/build-universal.sh PCAtools_2.14.0.tar.gz /Library/Frameworks/R.framework/Resources/bin/R PCAtools.buildbin-libdir StartedAt: 2024-04-16 12:24:16 -0400 (Tue, 16 Apr 2024) EndedAt: 2024-04-16 12:25:40 -0400 (Tue, 16 Apr 2024) EllapsedTime: 83.2 seconds RetCode: 0 Status: OK PackageFile: PCAtools_2.14.0.tgz PackageFileSize: 5.917 MiB