Package: PCAtools Version: 2.14.0 Command: /home/biocbuild/R/R-4.3.1/bin/R CMD INSTALL PCAtools StartedAt: 2023-11-01 20:54:38 -0000 (Wed, 01 Nov 2023) EndedAt: 2023-11-01 20:55:36 -0000 (Wed, 01 Nov 2023) EllapsedTime: 58.4 seconds RetCode: 0 Status: OK