Package: PCAN Version: 1.30.0 Command: /Library/Frameworks/R.framework/Resources/bin/R CMD build --keep-empty-dirs --no-resave-data PCAN StartedAt: 2024-04-15 20:47:43 -0400 (Mon, 15 Apr 2024) EndedAt: 2024-04-15 20:50:08 -0400 (Mon, 15 Apr 2024) EllapsedTime: 144.4 seconds RetCode: 0 Status: OK PackageFile: PCAN_1.30.0.tar.gz PackageFileSize: 2.564 MiB