Package: PAST Version: 1.18.0 Command: chmod a+r PAST -R && F:\biocbuild\bbs-3.18-bioc\R\bin\R.exe CMD build --keep-empty-dirs --no-resave-data PAST StartedAt: 2024-04-15 20:09:10 -0400 (Mon, 15 Apr 2024) EndedAt: 2024-04-15 20:11:22 -0400 (Mon, 15 Apr 2024) EllapsedTime: 132.4 seconds RetCode: 0 Status: OK PackageFile: PAST_1.18.0.tar.gz PackageFileSize: 954.3 KiB