Package: PANR Version: 1.48.0 Command: /Library/Frameworks/R.framework/Resources/bin/R CMD build --keep-empty-dirs --no-resave-data PANR StartedAt: 2024-04-15 20:44:38 -0400 (Mon, 15 Apr 2024) EndedAt: 2024-04-15 20:45:29 -0400 (Mon, 15 Apr 2024) EllapsedTime: 51.3 seconds RetCode: 0 Status: OK PackageFile: PANR_1.48.0.tar.gz PackageFileSize: 2.113 MiB