Package: PAIRADISE Version: 1.18.0 Command: /Library/Frameworks/R.framework/Resources/bin/R CMD check --install=check:PAIRADISE.install-out.txt --library=/Library/Frameworks/R.framework/Resources/library --no-vignettes --timings PAIRADISE_1.18.0.tar.gz StartedAt: 2024-04-16 06:38:00 -0400 (Tue, 16 Apr 2024) EndedAt: 2024-04-16 06:45:22 -0400 (Tue, 16 Apr 2024) EllapsedTime: 442.0 seconds RetCode: 0 Status: OK CheckDir: PAIRADISE.Rcheck Warnings: 0