Package: PAIRADISE Version: 1.18.0 Command: /Library/Frameworks/R.framework/Resources/bin/R CMD build --keep-empty-dirs --no-resave-data PAIRADISE StartedAt: 2024-04-15 20:41:31 -0400 (Mon, 15 Apr 2024) EndedAt: 2024-04-15 20:44:13 -0400 (Mon, 15 Apr 2024) EllapsedTime: 162.7 seconds RetCode: 0 Status: OK PackageFile: PAIRADISE_1.18.0.tar.gz PackageFileSize: 320.6 KiB