Package: PAIRADISE Version: 1.18.0 Command: /home/biocbuild/R/R-4.3.1/bin/R CMD check --install=check:PAIRADISE.install-out.txt --library=/home/biocbuild/R/R-4.3.1/site-library --no-vignettes --timings PAIRADISE_1.18.0.tar.gz StartedAt: 2023-11-02 12:54:46 -0000 (Thu, 02 Nov 2023) EndedAt: 2023-11-02 12:58:51 -0000 (Thu, 02 Nov 2023) EllapsedTime: 244.9 seconds RetCode: 0 Status: OK CheckDir: PAIRADISE.Rcheck Warnings: 0