Package: PADOG Version: 1.44.0 Command: /home/biocbuild/R/R-4.3.1/bin/R CMD check --install=check:PADOG.install-out.txt --library=/home/biocbuild/R/R-4.3.1/site-library --no-vignettes --timings PADOG_1.44.0.tar.gz StartedAt: 2023-11-02 12:53:32 -0000 (Thu, 02 Nov 2023) EndedAt: 2023-11-02 12:58:10 -0000 (Thu, 02 Nov 2023) EllapsedTime: 277.7 seconds RetCode: 0 Status: OK CheckDir: PADOG.Rcheck Warnings: 0