Package: Oscope Version: 1.32.0 Command: chmod a+r Oscope -R && F:\biocbuild\bbs-3.18-bioc\R\bin\R.exe CMD build --keep-empty-dirs --no-resave-data Oscope StartedAt: 2024-04-15 20:04:16 -0400 (Mon, 15 Apr 2024) EndedAt: 2024-04-15 20:06:18 -0400 (Mon, 15 Apr 2024) EllapsedTime: 121.5 seconds RetCode: 0 Status: OK PackageFile: Oscope_1.32.0.tar.gz PackageFileSize: 1.162 MiB