Package: Oscope Version: 1.32.0 Command: /Library/Frameworks/R.framework/Resources/bin/R CMD build --keep-empty-dirs --no-resave-data Oscope StartedAt: 2024-04-15 20:39:27 -0400 (Mon, 15 Apr 2024) EndedAt: 2024-04-15 20:47:34 -0400 (Mon, 15 Apr 2024) EllapsedTime: 486.9 seconds RetCode: 0 Status: OK PackageFile: Oscope_1.32.0.tar.gz PackageFileSize: 1.159 MiB