Package: Oscope Version: 1.32.0 Command: rm -rf Oscope.buildbin-libdir && mkdir Oscope.buildbin-libdir && /Users/biocbuild/BBS/utils/build-universal.sh Oscope_1.32.0.tar.gz /Library/Frameworks/R.framework/Resources/bin/R Oscope.buildbin-libdir StartedAt: 2024-04-16 12:22:45 -0400 (Tue, 16 Apr 2024) EndedAt: 2024-04-16 12:23:01 -0400 (Tue, 16 Apr 2024) EllapsedTime: 16.3 seconds RetCode: 0 Status: OK PackageFile: Oscope_1.32.0.tgz PackageFileSize: 848.6 KiB