Package: OrganismDbi Version: 1.44.0 Command: /home/biocbuild/bbs-3.18-bioc/R/bin/R CMD check --install=check:OrganismDbi.install-out.txt --library=/home/biocbuild/bbs-3.18-bioc/R/site-library --timings OrganismDbi_1.44.0.tar.gz StartedAt: 2024-04-16 01:53:37 -0400 (Tue, 16 Apr 2024) EndedAt: 2024-04-16 02:12:09 -0400 (Tue, 16 Apr 2024) EllapsedTime: 1112.4 seconds RetCode: 0 Status: WARNINGS CheckDir: OrganismDbi.Rcheck Warnings: 1