Package: OrganismDbi Version: 1.44.0 Command: /home/biocbuild/bbs-3.18-bioc/R/bin/R CMD build --keep-empty-dirs --no-resave-data OrganismDbi StartedAt: 2024-04-15 18:21:41 -0400 (Mon, 15 Apr 2024) EndedAt: 2024-04-15 18:23:42 -0400 (Mon, 15 Apr 2024) EllapsedTime: 121.3 seconds RetCode: 0 Status: OK PackageFile: OrganismDbi_1.44.0.tar.gz PackageFileSize: 387.3 KiB