Package: OrganismDbi Version: 1.44.0 Command: /Library/Frameworks/R.framework/Resources/bin/R CMD INSTALL OrganismDbi StartedAt: 2024-04-15 15:44:36 -0400 (Mon, 15 Apr 2024) EndedAt: 2024-04-15 15:46:03 -0400 (Mon, 15 Apr 2024) EllapsedTime: 86.5 seconds RetCode: 0 Status: OK