Package: OrganismDbi Version: 1.44.0 Command: /Library/Frameworks/R.framework/Resources/bin/R CMD INSTALL OrganismDbi StartedAt: 2024-03-03 15:19:06 -0500 (Sun, 03 Mar 2024) EndedAt: 2024-03-03 15:20:04 -0500 (Sun, 03 Mar 2024) EllapsedTime: 57.9 seconds RetCode: 0 Status: OK