Package: OrganismDbi Version: 1.44.0 Command: /Library/Frameworks/R.framework/Resources/bin/R CMD build --keep-empty-dirs --no-resave-data OrganismDbi StartedAt: 2024-03-03 17:40:24 -0500 (Sun, 03 Mar 2024) EndedAt: 2024-03-03 17:41:51 -0500 (Sun, 03 Mar 2024) EllapsedTime: 87.3 seconds RetCode: 0 Status: OK PackageFile: OrganismDbi_1.44.0.tar.gz PackageFileSize: 387.3 KiB