Package: OrganismDbi Version: 1.44.0 Command: /home/biocbuild/R/R-4.3.1/bin/R CMD INSTALL OrganismDbi StartedAt: 2023-11-01 20:27:03 -0000 (Wed, 01 Nov 2023) EndedAt: 2023-11-01 20:28:00 -0000 (Wed, 01 Nov 2023) EllapsedTime: 56.7 seconds RetCode: 0 Status: OK