Package: Organism.dplyr Version: 1.30.1 Command: /Library/Frameworks/R.framework/Resources/bin/R CMD INSTALL Organism.dplyr StartedAt: 2024-04-15 15:44:58 -0400 (Mon, 15 Apr 2024) EndedAt: 2024-04-15 15:46:20 -0400 (Mon, 15 Apr 2024) EllapsedTime: 82.4 seconds RetCode: 0 Status: OK