Package: OrderedList Version: 1.74.0 Command: rm -rf OrderedList.buildbin-libdir && mkdir OrderedList.buildbin-libdir && F:\biocbuild\bbs-3.18-bioc\R\bin\R.exe CMD INSTALL --build --library=OrderedList.buildbin-libdir OrderedList_1.74.0.tar.gz StartedAt: 2024-04-16 07:24:08 -0400 (Tue, 16 Apr 2024) EndedAt: 2024-04-16 07:24:20 -0400 (Tue, 16 Apr 2024) EllapsedTime: 12.8 seconds RetCode: 0 Status: OK PackageFile: OrderedList_1.74.0.zip PackageFileSize: 874.5 KiB