Package: OrderedList Version: 1.74.0 Command: rm -rf OrderedList.buildbin-libdir && mkdir OrderedList.buildbin-libdir && /Users/biocbuild/BBS/utils/build-universal.sh OrderedList_1.74.0.tar.gz /Library/Frameworks/R.framework/Resources/bin/R OrderedList.buildbin-libdir StartedAt: 2024-04-16 12:22:28 -0400 (Tue, 16 Apr 2024) EndedAt: 2024-04-16 12:22:38 -0400 (Tue, 16 Apr 2024) EllapsedTime: 10.0 seconds RetCode: 0 Status: OK PackageFile: OrderedList_1.74.0.tgz PackageFileSize: 1.103 MiB