Package: OrderedList Version: 1.74.0 Command: /Library/Frameworks/R.framework/Resources/bin/R CMD build --keep-empty-dirs --no-resave-data OrderedList StartedAt: 2024-03-03 17:40:11 -0500 (Sun, 03 Mar 2024) EndedAt: 2024-03-03 17:42:03 -0500 (Sun, 03 Mar 2024) EllapsedTime: 111.9 seconds RetCode: 0 Status: OK PackageFile: OrderedList_1.74.0.tar.gz PackageFileSize: 1.054 MiB