Package: OncoSimulR Version: 4.4.0 Command: /Library/Frameworks/R.framework/Resources/bin/R CMD INSTALL OncoSimulR StartedAt: 2024-04-15 16:07:57 -0400 (Mon, 15 Apr 2024) EndedAt: 2024-04-15 16:12:31 -0400 (Mon, 15 Apr 2024) EllapsedTime: 273.9 seconds RetCode: 0 Status: OK