Package: OncoScore Version: 1.30.0 Command: rm -rf OncoScore.buildbin-libdir && mkdir OncoScore.buildbin-libdir && /Users/biocbuild/BBS/utils/build-universal.sh OncoScore_1.30.0.tar.gz /Library/Frameworks/R.framework/Resources/bin/R OncoScore.buildbin-libdir StartedAt: 2024-04-16 12:21:47 -0400 (Tue, 16 Apr 2024) EndedAt: 2024-04-16 12:22:23 -0400 (Tue, 16 Apr 2024) EllapsedTime: 37.0 seconds RetCode: 0 Status: OK PackageFile: OncoScore_1.30.0.tgz PackageFileSize: 968 KiB