Package: OncoScore Version: 1.30.0 Command: /Library/Frameworks/R.framework/Resources/bin/R CMD check --install=check:OncoScore.install-out.txt --library=/Library/Frameworks/R.framework/Resources/library --no-vignettes --timings OncoScore_1.30.0.tar.gz StartedAt: 2024-03-03 22:18:27 -0500 (Sun, 03 Mar 2024) EndedAt: 2024-03-03 22:20:40 -0500 (Sun, 03 Mar 2024) EllapsedTime: 132.6 seconds RetCode: 0 Status: OK CheckDir: OncoScore.Rcheck Warnings: 0