Package: OncoScore Version: 1.30.0 Command: /Library/Frameworks/R.framework/Resources/bin/R CMD build --keep-empty-dirs --no-resave-data OncoScore StartedAt: 2024-03-03 17:39:06 -0500 (Sun, 03 Mar 2024) EndedAt: 2024-03-03 17:40:09 -0500 (Sun, 03 Mar 2024) EllapsedTime: 63.1 seconds RetCode: 0 Status: OK PackageFile: OncoScore_1.30.0.tar.gz PackageFileSize: 883.5 KiB