Package: OncoScore Version: 1.30.0 Command: /home/biocbuild/R/R-4.3.1/bin/R CMD build --keep-empty-dirs --no-resave-data OncoScore StartedAt: 2023-11-02 04:14:28 -0000 (Thu, 02 Nov 2023) EndedAt: 2023-11-02 04:16:38 -0000 (Thu, 02 Nov 2023) EllapsedTime: 129.2 seconds RetCode: 0 Status: OK PackageFile: OncoScore_1.30.0.tar.gz PackageFileSize: 1011 KiB