Package: OmnipathR Version: 3.10.1 Command: chmod a+r OmnipathR -R && F:\biocbuild\bbs-3.18-bioc\R\bin\R.exe CMD build --keep-empty-dirs --no-resave-data OmnipathR StartedAt: 2024-04-15 19:58:30 -0400 (Mon, 15 Apr 2024) EndedAt: 2024-04-15 20:07:42 -0400 (Mon, 15 Apr 2024) EllapsedTime: 552.5 seconds RetCode: 1 Status: ERROR PackageFile: None PackageFileSize: NA