Package: OmnipathR Version: 3.10.1 Command: rm -rf OmnipathR.buildbin-libdir && mkdir OmnipathR.buildbin-libdir && F:\biocbuild\bbs-3.18-bioc\R\bin\R.exe CMD INSTALL --build --library=OmnipathR.buildbin-libdir OmnipathR_3.10.1.tar.gz StartedAt: 2024-03-06 09:04:03 -0500 (Wed, 06 Mar 2024) EndedAt: 2024-03-06 09:04:43 -0500 (Wed, 06 Mar 2024) EllapsedTime: 39.6 seconds RetCode: 0 Status: OK PackageFile: OmnipathR_3.10.1.zip PackageFileSize: 2.725 MiB