Package: OmnipathR Version: 3.10.1 Command: /home/biocbuild/R/R-4.3.1/bin/R CMD build --keep-empty-dirs --no-resave-data OmnipathR StartedAt: 2023-11-02 04:13:19 -0000 (Thu, 02 Nov 2023) EndedAt: 2023-11-02 04:49:23 -0000 (Thu, 02 Nov 2023) EllapsedTime: 2164.5 seconds RetCode: 1 Status: ERROR PackageFile: None PackageFileSize: NA