Package: OmicCircos Version: 1.40.0 Command: F:\biocbuild\bbs-3.18-bioc\R\bin\R.exe CMD check --no-multiarch --install=check:OmicCircos.install-out.txt --library=F:\biocbuild\bbs-3.18-bioc\R\library --no-vignettes --timings OmicCircos_1.40.0.tar.gz StartedAt: 2024-04-16 03:22:39 -0400 (Tue, 16 Apr 2024) EndedAt: 2024-04-16 03:24:14 -0400 (Tue, 16 Apr 2024) EllapsedTime: 94.6 seconds RetCode: 0 Status: WARNINGS CheckDir: OmicCircos.Rcheck Warnings: 1