Package: OTUbase Version: 1.52.0 Command: /home/biocbuild/R/R-4.3.1/bin/R CMD INSTALL OTUbase StartedAt: 2023-11-01 20:33:14 -0000 (Wed, 01 Nov 2023) EndedAt: 2023-11-01 20:33:59 -0000 (Wed, 01 Nov 2023) EllapsedTime: 44.6 seconds RetCode: 0 Status: OK