Package: OLINgui Version: 1.76.0 Command: /Library/Frameworks/R.framework/Resources/bin/R CMD build --keep-empty-dirs --no-resave-data OLINgui StartedAt: 2024-04-15 20:33:18 -0400 (Mon, 15 Apr 2024) EndedAt: 2024-04-15 20:33:43 -0400 (Mon, 15 Apr 2024) EllapsedTime: 24.6 seconds RetCode: 0 Status: OK PackageFile: OLINgui_1.76.0.tar.gz PackageFileSize: 374.3 KiB