Package: OGRE Version: 1.6.0 Command: /home/biocbuild/R/R-4.3.1/bin/R CMD INSTALL OGRE StartedAt: 2023-11-01 21:03:30 -0000 (Wed, 01 Nov 2023) EndedAt: 2023-11-01 21:04:39 -0000 (Wed, 01 Nov 2023) EllapsedTime: 68.7 seconds RetCode: 0 Status: OK