Package: OGRE Version: 1.6.0 Command: /home/biocbuild/R/R-4.3.1/bin/R CMD build --keep-empty-dirs --no-resave-data OGRE StartedAt: 2023-11-02 04:09:53 -0000 (Thu, 02 Nov 2023) EndedAt: 2023-11-02 04:12:14 -0000 (Thu, 02 Nov 2023) EllapsedTime: 141.2 seconds RetCode: 0 Status: OK PackageFile: OGRE_1.6.0.tar.gz PackageFileSize: 1.696 MiB