Package: ODER Version: 1.5.1 Command: /home/biocbuild/bbs-3.18-bioc/R/bin/R CMD check --install=check:ODER.install-out.txt --library=/home/biocbuild/bbs-3.18-bioc/R/site-library --timings ODER_1.5.1.tar.gz StartedAt: 2023-04-20 08:30:07 -0400 (Thu, 20 Apr 2023) EndedAt: 2023-04-20 08:45:18 -0400 (Thu, 20 Apr 2023) EllapsedTime: 910.2 seconds RetCode: 0 Status: WARNINGS CheckDir: ODER.Rcheck Warnings: 1