Package: ODER Version: 1.5.1 Command: /home/biocbuild/bbs-3.18-bioc/R/bin/R CMD build --keep-empty-dirs --no-resave-data ODER StartedAt: 2023-04-20 05:18:20 -0400 (Thu, 20 Apr 2023) EndedAt: 2023-04-20 05:20:15 -0400 (Thu, 20 Apr 2023) EllapsedTime: 114.4 seconds RetCode: 0 Status: OK PackageFile: ODER_1.5.1.tar.gz PackageFileSize: 2.471 MiB