Package: NxtIRFcore Version: 1.5.1 Command: /home/biocbuild/bbs-3.18-bioc/R/bin/R CMD INSTALL NxtIRFcore StartedAt: 2023-04-20 04:07:18 -0400 (Thu, 20 Apr 2023) EndedAt: 2023-04-20 04:07:19 -0400 (Thu, 20 Apr 2023) EllapsedTime: 0.9 seconds RetCode: 1 Status: ERROR