Package: NuPoP Version: 2.10.0 Command: /Library/Frameworks/R.framework/Resources/bin/R CMD INSTALL NuPoP StartedAt: 2024-04-15 16:04:19 -0400 (Mon, 15 Apr 2024) EndedAt: 2024-04-15 16:04:44 -0400 (Mon, 15 Apr 2024) EllapsedTime: 24.8 seconds RetCode: 0 Status: OK