Package: NuPoP Version: 2.10.0 Command: /Library/Frameworks/R.framework/Resources/bin/R CMD build --keep-empty-dirs --no-resave-data NuPoP StartedAt: 2024-04-15 20:32:40 -0400 (Mon, 15 Apr 2024) EndedAt: 2024-04-15 20:33:25 -0400 (Mon, 15 Apr 2024) EllapsedTime: 44.9 seconds RetCode: 0 Status: OK PackageFile: NuPoP_2.10.0.tar.gz PackageFileSize: 6.133 MiB