Package: NuPoP Version: 2.10.0 Command: /Library/Frameworks/R.framework/Resources/bin/R CMD build --keep-empty-dirs --no-resave-data NuPoP StartedAt: 2024-03-03 17:37:39 -0500 (Sun, 03 Mar 2024) EndedAt: 2024-03-03 17:38:02 -0500 (Sun, 03 Mar 2024) EllapsedTime: 22.5 seconds RetCode: 0 Status: OK PackageFile: NuPoP_2.10.0.tar.gz PackageFileSize: 6.108 MiB