Package: NuPoP Version: 2.10.0 Command: rm -rf NuPoP.buildbin-libdir && mkdir NuPoP.buildbin-libdir && /Users/biocbuild/BBS/utils/build-universal.sh NuPoP_2.10.0.tar.gz /Library/Frameworks/R.framework/Resources/bin/R NuPoP.buildbin-libdir StartedAt: 2024-03-04 00:54:11 -0500 (Mon, 04 Mar 2024) EndedAt: 2024-03-04 00:54:34 -0500 (Mon, 04 Mar 2024) EllapsedTime: 22.7 seconds RetCode: 0 Status: OK PackageFile: NuPoP_2.10.0.tgz PackageFileSize: 4.387 MiB