Package: NuPoP Version: 2.10.0 Command: /home/biocbuild/R/R-4.3.1/bin/R CMD check --install=check:NuPoP.install-out.txt --library=/home/biocbuild/R/R-4.3.1/site-library --no-vignettes --timings NuPoP_2.10.0.tar.gz StartedAt: 2023-11-02 12:44:48 -0000 (Thu, 02 Nov 2023) EndedAt: 2023-11-02 12:45:18 -0000 (Thu, 02 Nov 2023) EllapsedTime: 30.0 seconds RetCode: 0 Status: OK CheckDir: NuPoP.Rcheck Warnings: 0